BEGIN:VCALENDAR
VERSION:2.0
PRODID:-//wp-events-plugin.com//7.2.3.1//EN
TZID:Europe/Madrid
X-WR-TIMEZONE:Europe/Madrid
BEGIN:VEVENT
UID:4@capisrunningteam.es
DTSTART;TZID=Europe/Madrid;VALUE=DATE:20240922
DTEND;TZID=Europe/Madrid;VALUE=DATE:20240923
DTSTAMP:20240912T123418Z
URL:https://capisrunningteam.es/events/totalenergies-milla-internacional-d
 e-madrid/
SUMMARY:TotalEnergies Milla Internacional de Madrid
DESCRIPTION:TotalEnergies Milla Internacional de Madrid. 1609 metros por la
  Calle Serrano\, en plena Milla de Oro.\n\nhttps://millademadrid.totalener
 gies.es/
ATTACH;FMTTYPE=image/jpeg:https://capisrunningteam.es/wp-content/uploads/2
 024/09/logo-totalenergies-milla-internacional-de-madrid120.png
CATEGORIES:Carreras populares
END:VEVENT
BEGIN:VTIMEZONE
TZID:Europe/Madrid
X-LIC-LOCATION:Europe/Madrid
BEGIN:DAYLIGHT
DTSTART:20240331T030000
TZOFFSETFROM:+0100
TZOFFSETTO:+0200
TZNAME:CEST
END:DAYLIGHT
END:VTIMEZONE
END:VCALENDAR