BEGIN:VCALENDAR
VERSION:2.0
PRODID:-//wp-events-plugin.com//7.2.3.1//EN
TZID:Europe/Madrid
X-WR-TIMEZONE:Europe/Madrid
BEGIN:VEVENT
UID:13@capisrunningteam.es
DTSTART;TZID=Europe/Madrid:20241027T090000
DTEND;TZID=Europe/Madrid:20241027T090000
DTSTAMP:20241007T122546Z
URL:https://capisrunningteam.es/events/campeonato-de-madrid-de-cross-por-c
 lubes/
SUMMARY:Campeonato de Madrid de Cross por Clubes
DESCRIPTION:En el Parque de las Cruces\, para atletas federados\, previa in
 scripción mediante sus clubes.\n\nHabrá un Cross Popular al que se puede
 n inscribir atletas no federados y federados.\n\nInformación
END:VEVENT
BEGIN:VTIMEZONE
TZID:Europe/Madrid
X-LIC-LOCATION:Europe/Madrid
BEGIN:STANDARD
DTSTART:20241027T020000
TZOFFSETFROM:+0200
TZOFFSETTO:+0100
TZNAME:CET
END:STANDARD
END:VTIMEZONE
END:VCALENDAR